BEGIN:VCALENDAR
VERSION:2.0
PRODID:-//Library Market//iCal Export//EN
BEGIN:VEVENT
SUMMARY:Paonia Library Book Sale
UID:2573
DTSTAMP:20260425T162400Z
DTSTART:20260425T160000Z
DTEND:20260425T230000Z
LOCATION:80 Samuel Wade Rd., Paonia, CO 81428, United States
ROOM: PA Community Room
DESCRIPTION:The Paonia Friends of the Library are having their annual Spri
 ng Book Sale! Drop by and shop our collection of gently used books. All 
 books are sold by donation.
URL:https://www.deltalibraries.org/event/paonia-library-book-sale-2573
END:VEVENT
END:VCALENDAR
