BEGIN:VCALENDAR
VERSION:2.0
PRODID:-//Library Market//iCal Export//EN
BEGIN:VEVENT
SUMMARY:&quot;The Wild Robot&quot; Film Showing
UID:2571
DTSTAMP:20260423T062000Z
DTSTART:20260508T190000Z
DTEND:20260508T210000Z
LOCATION:180 SW 6th Ave., Cedaredge, CO 81413, United States
ROOM: CE Community Room
DESCRIPTION:&quot;The Wild Robot&quot; by Peter Brown is the book and movi
 e for Delta County Reads 2026! This is our tenth year partnering with Para
 dise of Paonia and the Blue Sage Literary Committee to bring a family-frie
 ndly book and movie to Delta County for free. Join us for a free showing 
 of &quot;The Wild Robot&quot; at the Cedaredge Library on Friday afternoon
 . Popcorn will be provided.
URL:https://www.deltalibraries.org/event/wild-robot-film-showing-2571
END:VEVENT
END:VCALENDAR
