BEGIN:VCALENDAR
VERSION:2.0
PRODID:-//Library Market//iCal Export//EN
BEGIN:VEVENT
SUMMARY:&quot;The Wild Robot&quot; Film Showing
UID:2570
DTSTAMP:20260423T062000Z
DTSTART:20260502T200000Z
DTEND:20260502T220000Z
LOCATION:Paradise Theatre of Paonia, 215 Grand Ave, Paonia, CO 81428, Unit
 ed States
ROOM: Paonia Offsite
DESCRIPTION:&quot;The Wild Robot&quot; by Peter Brown is the book and movi
 e for Delta County Reads 2026! This is our tenth year partnering with Para
 dise of Paonia and the Blue Sage Literary Committee to bring a family-frie
 ndly book and movie to Delta County for free. Join us for a free showing 
 of &quot;The Wild Robot&quot; at the Paradise Theatre of Paonia on Saturda
 y afternoon. Popcorn will be provided.
URL:https://www.deltalibraries.org/event/wild-robot-film-showing-2570
END:VEVENT
END:VCALENDAR
