BEGIN:VCALENDAR
VERSION:2.0
PRODID:-//Library Market//iCal Export//EN
BEGIN:VEVENT
SUMMARY:Library District Board Meeting
UID:2569
DTSTAMP:20260423T075300Z
DTSTART:20261209T230000Z
DTEND:20261210T010000Z
LOCATION:180 SW 6th Ave., Cedaredge, CO 81413, United States
ROOM: CE Community Room
DESCRIPTION:Each Board meeting is the 3rd Wednesday (with the exception of
  the December meeting, which is held on the 2nd Wednesday in order to meet
  budget deadlines) at 4:00pm unless change is required. Any change will be
  posted in advance on our website and in each library location. The public
  is always welcome and encouraged to attend.The monthly agenda will be pos
 ted when available. 
URL:https://www.deltalibraries.org/event/library-district-board-meeting-25
 69
END:VEVENT
END:VCALENDAR
