BEGIN:VCALENDAR
VERSION:2.0
PRODID:-//Library Market//iCal Export//EN
BEGIN:VEVENT
SUMMARY:Library District Board Meeting
UID:2567
DTSTAMP:20260423T060200Z
DTSTART:20261021T220000Z
DTEND:20261022T000000Z
LOCATION:149 E. Main St., Hotchkiss, CO 81419, United States
ROOM: HO Basement
DESCRIPTION:Each Board meeting is the 3rd Wednesday (with the exception of
  the December meeting, which is held on the 2nd Wednesday in order to meet
  budget deadlines) at 4:00pm unless change is required. Any change will be
  posted in advance on our website and in each library location. The public
  is always welcome and encouraged to attend.The monthly agenda will be pos
 ted when available. 
URL:https://www.deltalibraries.org/event/library-district-board-meeting-25
 67
END:VEVENT
END:VCALENDAR
