BEGIN:VCALENDAR
VERSION:2.0
PRODID:-//Library Market//iCal Export//EN
BEGIN:VEVENT
SUMMARY:Library District Board Meeting
UID:2565
DTSTAMP:20260423T125700Z
DTSTART:20260819T220000Z
DTEND:20260820T000000Z
LOCATION:545 Highway 92, Crawford, CO 81415, United States
ROOM: CR Main Area
DESCRIPTION:Each Board meeting is the 3rd Wednesday (with the exception of
  the December meeting, which is held on the 2nd Wednesday in order to meet
  budget deadlines) at 4:00pm unless change is required. Any change will be
  posted in advance on our website and in each library location. The public
  is always welcome and encouraged to attend.The monthly agenda will be pos
 ted when available. 
URL:https://www.deltalibraries.org/event/library-district-board-meeting-25
 65
END:VEVENT
END:VCALENDAR
