BEGIN:VCALENDAR
VERSION:2.0
PRODID:-//Library Market//iCal Export//EN
BEGIN:VEVENT
SUMMARY:&quot;The Wild Robot&quot; Film Showing
UID:2548
DTSTAMP:20260421T140100Z
DTSTART:20260425T190000Z
DTEND:20260425T210000Z
LOCATION:124 E 6th St, Delta, CO 81416, United States
ROOM: DE Community Room
DESCRIPTION:&quot;The Wild Robot&quot; by Peter Brown is the book and movi
 e for Delta County Reads 2026! This is our tenth year partnering with Para
 dise of Paonia and the Blue Sage Literary Committee to bring a family-frie
 ndly book and movie to Delta County for free. Join us for a free showing 
 of &quot;The Wild Robot&quot; at the Delta Library on Saturday afternoon. 
 Popcorn will be provided.
URL:https://www.deltalibraries.org/event/wild-robot-film-showing-2548
END:VEVENT
END:VCALENDAR
